BEGIN:VCALENDAR
VERSION:2.0
PRODID:-//InvisionCommunity Events 4.7.24//EN
METHOD:PUBLISH
CALSCALE:GREGORIAN
REFRESH-INTERVAL:PT15M
X-PUBLISHED-TTL:PT15M
X-WR-CALNAME:Calendrier Planeur.net
NAME:Calendrier Planeur.net
BEGIN:VTIMEZONE
TZID:Europe/London
TZURL:http://tzurl.org/zoneinfo/Europe/London
X-LIC-LOCATION:Europe/London
BEGIN:DAYLIGHT
TZOFFSETFROM:+0000
TZOFFSETTO:+0100
TZNAME:BST
DTSTART:20240331T020000Z
RRULE:FREQ=YEARLY;BYMONTH=3;BYDAY=-1SU
END:DAYLIGHT
BEGIN:STANDARD
TZOFFSETFROM:+0100
TZOFFSETTO:+0000
TZNAME:GMT
DTSTART:20241027T020000Z
RRULE:FREQ=YEARLY;BYMONTH=10;BYDAY=-1SU
END:STANDARD
END:VTIMEZONE
BEGIN:VEVENT
SUMMARY:[Series 12 FAI Sailplane Grand Prix] Slovenia Venue – Lesc
	e
DTSTAMP:20231110T153921Z
SEQUENCE:0
UID:381-1-de173ad8182de7da0f7b40dda7d14a7d@www.volavoile.net
ORGANIZER;CN="Administrateur":contact@volavoile.net
DESCRIPTION:\n	Slovenia Venue – Lesce 30th June to 6th of July 2024\n\
	n	Contact address sgp@alc.si\n\n	Lesce airfield is located on the sunny si
	de of the Alps in north-western Slovenia. It is surrounded by mountains\, 
	which makes it a perfect place for alpine soaring and for hosting gliding 
	contests. A pleasant airfield vibe\, friendly local gliding community and 
	well developed infrastructure are its strongest advantages for organising 
	a Sailplane Grand Prix. If you are a pilot who enjoys flying in mountainou
	s terrain and would like to experience the friendly atmosphere at Lesce- B
	led airfield during the SGP qualifiers next year\, be kindly invited.\n\n\
	n\n	https://sgpfinal23.sgp.aero/news/calendarserietwelve\n\n\n\n	 \n\n\n\
	n	 \n\n
DTSTART:20240629T220000Z
DTEND:20240705T220000Z
END:VEVENT
END:VCALENDAR
